BEGIN:VCALENDAR
VERSION:2.0
PRODID:-//Play Padel Events - ECPv6.15.20//NONSGML v1.0//EN
CALSCALE:GREGORIAN
METHOD:PUBLISH
X-WR-CALNAME:Play Padel Events
X-ORIGINAL-URL:https://www.playpadelevents.nl
X-WR-CALDESC:Events voor Play Padel Events
REFRESH-INTERVAL;VALUE=DURATION:PT1H
X-Robots-Tag:noindex
X-PUBLISHED-TTL:PT1H
BEGIN:VTIMEZONE
TZID:UTC
BEGIN:STANDARD
TZOFFSETFROM:+0000
TZOFFSETTO:+0000
TZNAME:UTC
DTSTART:20250101T000000
END:STANDARD
END:VTIMEZONE
BEGIN:VEVENT
DTSTART;TZID=UTC:20260515T150000
DTEND;TZID=UTC:20260515T170000
DTSTAMP:20260424T122455
CREATED:20250627T113013Z
LAST-MODIFIED:20251020T131356Z
UID:1840-1778857200-1778864400@www.playpadelevents.nl
SUMMARY:Mei: Padel & Borrel
DESCRIPTION:Padel is dé perfecte mix van plezier en sportieve competitie. Op 15 mei organiseert Play Padel Business een actieve en gezellige middag op de baan bij Theo Meijer Sport. \nVan 15:00 – 17:00 spelen we padel. Daarna sluiten we af met een gezellige borrel. De hapjes en drankjes staan voor je klaar. Tot dan! \nWe spelen onderling wedstrijden en eventueel het populaire spel ‘King of the Court’. \nBen je nog geen lid van Play Padel Business? Klik dan hier!
URL:https://www.playpadelevents.nl/event/borrel-mei-2026/
LOCATION:Theo Meijer Sport\, Plantageweg 6\, Leusden\, Utrecht\, 3833 AZ\, Netherlands
CATEGORIES:Padel Evenementen
ATTACH;FMTTYPE=image/webp:https://www.playpadelevents.nl/wp-content/uploads/2025/06/male-athlete-playing-padel-on-outdoor-court-scaled.webp
ORGANIZER;CN="Play Padel Business":MAILTO:sem@playpadelevents.nl
END:VEVENT
END:VCALENDAR